BEGIN:VCALENDAR
VERSION:2.0
PRODID:-//ChamberMaster//Event Calendar 2.0//EN
METHOD:PUBLISH
X-PUBLISHED-TTL:P3D
REFRESH-INTERVAL:P3D
CALSCALE:GREGORIAN
BEGIN:VEVENT
DTSTART:20251011T230000Z
DTEND:20251012T033000Z
X-MICROSOFT-CDO-ALLDAYEVENT:FALSE
SUMMARY:Adelante Fest 2025
DESCRIPTION:JSerra Catholic High School invites the community to Adelante Fest 2025\, an inspiring evening featuring Immacul e Ilibagiza\, survivor of the Rwandan genocide and internationally acclaimed author and motivational speaker. Attendees will experience a powerful keynote address along with a full festival of activities for all ages. ABOUT IMMACUL E ILIBAGIZA:? Immacul e Ilibagiza survived the 1994 Rwandan genocide by hiding in a 3x4-foot bathroom for 91 days with seven other women. Despite enduring unimaginable fear and loss\, she has transformed her experience into a message of hope\, forgiveness\, and reconciliation. Her autobiography\, Left to Tell\, has sold more than 2 million copies and is in development as a major motion picture. Immacul e now travels the world inspiring others to overcome fear\, doubt\, and hate.
X-ALT-DESC;FMTTYPE=text/html:JSerra Catholic High School invites the community to Adelante Fest 2025\, an inspiring evening featuring Immacul&eacute\;e Ilibagiza\, survivor of the Rwandan genocide and internationally acclaimed author and motivational speaker. Attendees will experience a powerful keynote address along with a full festival of activities for all ages. ABOUT IMMACUL&Eacute\;E ILIBAGIZA:? Immacul&eacute\;e Ilibagiza survived the 1994 Rwandan genocide by hiding in a 3x4-foot bathroom for 91 days with seven other women. Despite enduring unimaginable fear and loss\, she has transformed her experience into a message of hope\, forgiveness\, and reconciliation. Her autobiography\, Left to Tell\, has sold more than 2 million copies and is in development as a major motion picture. Immacul&eacute\;e now travels the world inspiring others to overcome fear\, doubt\, and hate.
LOCATION:JSerra Catholic High School 26351 Junipero Serra Road? San Juan Capistrano\, CA 92675
UID:e.375.9066
SEQUENCE:3
DTSTAMP:20260425T150521Z
URL:https://cmbusiness.sanjuanchamber.com/events/details/adelante-fest-2025-9066
END:VEVENT

END:VCALENDAR
