BEGIN:VCALENDAR
VERSION:2.0
PRODID:-//ChamberMaster//Event Calendar 2.0//EN
METHOD:PUBLISH
X-PUBLISHED-TTL:P3D
REFRESH-INTERVAL:P3D
CALSCALE:GREGORIAN
BEGIN:VEVENT
DTSTART:20180602T210000Z
DTEND:20180603T050000Z
X-MICROSOFT-CDO-ALLDAYEVENT:FALSE
SUMMARY:Bye Bye Birdie
DESCRIPTION:Bye Bye Birdie\, One of Broadway's biggest hits\, is back in the spotlight! This spectacular show is about a struggling songwriter's attempt to write one last hit before his star client is drafted into the army. This effervescent\, toe-tapping production is a show both for the kid with you and the kid within you.\n\n\n\nPlease visit the playhouse's website for showtimes and pricing.
X-ALT-DESC;FMTTYPE=text/html:<span style="color: rgb(0\, 0\, 0)\; font-family: &quot\;Source Sans Pro&quot\;\, sans-serif\; font-size: 16px\; letter-spacing: 0.4px\;">Bye Bye Birdie\, One of Broadway&rsquo\;s biggest hits\, is back in the spotlight! This spectacular show is about a struggling songwriter&rsquo\;s attempt to write one last hit before his star client is drafted into the army. This effervescent\, toe-tapping production is a show both for the kid with you and the kid within you.</span><br style="box-sizing: border-box\; border-color: rgb(230\, 230\, 230)\; line-height: 1.5em\; margin: 0px\; padding: 0px\; font-family: &quot\;Source Sans Pro&quot\;\, sans-serif\; font-variant-numeric: normal\; font-variant-east-asian: normal\; letter-spacing: 0.4px\; color: rgb(0\, 0\, 0)\; font-size: 16px\;" />\n<br style="box-sizing: border-box\; border-color: rgb(230\, 230\, 230)\; line-height: 1.5em\; margin: 0px\; padding: 0px\; font-family: &quot\;Source Sans Pro&quot\;\, sans-serif\; font-variant-numeric: normal\; font-variant-east-asian: normal\; letter-spacing: 0.4px\; color: rgb(0\, 0\, 0)\; font-size: 16px\;" />\n<span style="color: rgb(0\, 0\, 0)\; font-family: &quot\;Source Sans Pro&quot\;\, sans-serif\; font-size: 16px\; letter-spacing: 0.4px\;">Please visit the playhouse&rsquo\;s website for showtimes and pricing.</span>
LOCATION:Camino Real Playhouse 31776 El Camino Real San Juan Capistrano\, CA 92675
UID:e.375.5046
SEQUENCE:3
DTSTAMP:20260423T114740Z
URL:https://cmbusiness.sanjuanchamber.com/events/details/bye-bye-birdie-5046
END:VEVENT

END:VCALENDAR
