BEGIN:VCALENDAR
VERSION:2.0
PRODID:-//ChamberMaster//Event Calendar 2.0//EN
METHOD:PUBLISH
X-PUBLISHED-TTL:P3D
REFRESH-INTERVAL:P3D
CALSCALE:GREGORIAN
BEGIN:VEVENT
DTSTART:20261106T163000Z
DTEND:20261106T180000Z
X-MICROSOFT-CDO-ALLDAYEVENT:FALSE
SUMMARY:Chamber Connections Breakfast
DESCRIPTION:With SBDC and DP Chamber
X-ALT-DESC;FMTTYPE=text/html:With SBDC and DP Chamber
LOCATION:VMSG
UID:e.375.9358
SEQUENCE:3
DTSTAMP:20260424T041007Z
URL:https://cmbusiness.sanjuanchamber.com/events/details/chamber-connections-breakfast-9358
END:VEVENT

END:VCALENDAR
