BEGIN:VCALENDAR
VERSION:2.0
PRODID:-//ChamberMaster//Event Calendar 2.0//EN
METHOD:PUBLISH
X-PUBLISHED-TTL:P3D
REFRESH-INTERVAL:P3D
CALSCALE:GREGORIAN
BEGIN:VEVENT
DTSTART:20260617T000000Z
DTEND:20260617T000000Z
X-MICROSOFT-CDO-ALLDAYEVENT:FALSE
SUMMARY:City Council Meeting - SJC Community Center
DESCRIPTION:City Council Meetings\n\nFirst and Third Tuesday of Each Month
X-ALT-DESC;FMTTYPE=text/html:City Council Meetings<br />\nFirst and Third Tuesday of Each Month
LOCATION:City of San Juan Capistrano SJC Community Center 25925 Camino del Avion San Juan Capistrano\, CA 92675 Please check website for any location changes https://www.sanjuancapistrano.org/189/Public-Meetings
UID:e.375.8692
SEQUENCE:3
DTSTAMP:20260423T223111Z
URL:https://cmbusiness.sanjuanchamber.com/events/details/city-council-meeting-new-meeting-place-06-16-2026-8692
END:VEVENT

END:VCALENDAR
