BEGIN:VCALENDAR
VERSION:2.0
PRODID:-//ChamberMaster//Event Calendar 2.0//EN
METHOD:PUBLISH
X-PUBLISHED-TTL:P3D
REFRESH-INTERVAL:P3D
CALSCALE:GREGORIAN
BEGIN:VEVENT
DTSTART:20260515T003000Z
DTEND:20260515T023000Z
X-MICROSOFT-CDO-ALLDAYEVENT:FALSE
SUMMARY:Evening Networking Mixer at TailoredSpace
DESCRIPTION:
X-ALT-DESC;FMTTYPE=text/html:
LOCATION:27131 Calle Arroyo Suite 1722 San Juan Capistrano
UID:e.375.9331
SEQUENCE:3
DTSTAMP:20260423T192804Z
URL:https://cmbusiness.sanjuanchamber.com/events/details/evening-networking-mixer-at-tailoredspace-9331
END:VEVENT

END:VCALENDAR
