BEGIN:VCALENDAR
VERSION:2.0
PRODID:-//ChamberMaster//Event Calendar 2.0//EN
METHOD:PUBLISH
X-PUBLISHED-TTL:P3D
REFRESH-INTERVAL:P3D
CALSCALE:GREGORIAN
BEGIN:VEVENT
DTSTART:20180502T220000Z
DTEND:20180503T020000Z
X-MICROSOFT-CDO-ALLDAYEVENT:FALSE
SUMMARY:Farmers Market
DESCRIPTION:Old Capistrano Certified Farmers Market
X-ALT-DESC;FMTTYPE=text/html:Old Capistrano Certified Farmers Market&nbsp\;&nbsp\;&nbsp\;&nbsp\;
LOCATION:Yorba Street between El Camino Real and Camino Capistrano
UID:e.375.3575
SEQUENCE:3
DTSTAMP:20260423T132704Z
URL:https://cmbusiness.sanjuanchamber.com/events/details/farmers-market-05-02-2018-3575
END:VEVENT

END:VCALENDAR
