BEGIN:VCALENDAR
VERSION:2.0
PRODID:-//ChamberMaster//Event Calendar 2.0//EN
METHOD:PUBLISH
X-PUBLISHED-TTL:P3D
REFRESH-INTERVAL:P3D
CALSCALE:GREGORIAN
BEGIN:VEVENT
DTSTART:20180505T200000Z
DTEND:20180505T220000Z
X-MICROSOFT-CDO-ALLDAYEVENT:FALSE
SUMMARY:Fiesta de Mayo
DESCRIPTION:Join Outlets at San Clemente for our third annual afternoon fiesta featuring Mariachis\, Ballet Folkl rico and Free family-friendly fun\, including face painters and balloon artists!
X-ALT-DESC;FMTTYPE=text/html:<span style="color: rgb(34\, 34\, 34)\; font-family: &quot\;Source Sans Pro&quot\;\, sans-serif\; font-size: 16.66px\; letter-spacing: 0.4165px\;">Join Outlets at San Clemente for our third annual afternoon fiesta featuring Mariachis\, Ballet Folkl&oacute\;rico and Free family-friendly fun\, including face painters and balloon artists!</span>
LOCATION:Outlets At San Clemente 101 West Avenida Vista Hermosa San Clemente\, CA 92672
UID:e.375.5020
SEQUENCE:3
DTSTAMP:20260423T132206Z
URL:https://cmbusiness.sanjuanchamber.com/events/details/fiesta-de-mayo-5020
END:VEVENT

END:VCALENDAR
