BEGIN:VCALENDAR
VERSION:2.0
PRODID:-//ChamberMaster//Event Calendar 2.0//EN
METHOD:PUBLISH
X-PUBLISHED-TTL:P3D
REFRESH-INTERVAL:P3D
CALSCALE:GREGORIAN
BEGIN:VEVENT
DTSTART;VALUE=DATE:20251211
DTEND;VALUE=DATE:20251212
TRANSP:TRANSPARENT
X-MICROSOFT-CDO-ALLDAYEVENT:TRUE
SUMMARY:GriefShare
DESCRIPTION:GriefShare is a safe\, welcoming place where people understand the difficult emotions of grief. You'll find relief and comfort as you learn what to expect in the days ahead and how to navigate your personal grief process. Since there are no neat\, orderly stages of grief\, you'll learn helpful ways of coping with grief\, in all its unpredictability and gain solid support each step of the way.\n\n \n\nAt a weekly GriefShare meeting\, you will view a video featuring respected counselors\, teachers\, and healthcare professionals on grief-related topics. After that is a small-group discussion for sharing\, support\, and personal application of what you learned on the video. You will receive a book to take home filled with valuable exercises for navigating your personal grieving process.
X-ALT-DESC;FMTTYPE=text/html:GriefShare is a safe\, welcoming place where people understand the difficult emotions of grief. You&rsquo\;ll find relief and comfort as you learn what to expect in the days ahead and how to navigate your personal grief process. Since there are no neat\, orderly stages of grief\, you&rsquo\;ll learn helpful ways of coping with grief\, in all its unpredictability&mdash\;and gain solid support each step of the way.<br />\n&nbsp\;<br />\nAt a weekly GriefShare meeting\, you will view a video featuring respected counselors\, teachers\, and healthcare professionals on grief-related topics. After that is a small-group discussion for sharing\, support\, and personal application of what you learned on the video. You will receive a book to take home filled with valuable exercises for navigating your personal grieving process.
LOCATION:Community Presbyterian Church Meeting Room (lower level)
UID:e.375.9077
SEQUENCE:3
DTSTAMP:20260423T101727Z
URL:https://cmbusiness.sanjuanchamber.com/events/details/griefshare-12-11-2025-9077
END:VEVENT

END:VCALENDAR
