BEGIN:VCALENDAR
VERSION:2.0
PRODID:-//ChamberMaster//Event Calendar 2.0//EN
METHOD:PUBLISH
X-PUBLISHED-TTL:P3D
REFRESH-INTERVAL:P3D
CALSCALE:GREGORIAN
BEGIN:VEVENT
DTSTART:20260409T203000Z
DTEND:20260409T220000Z
X-MICROSOFT-CDO-ALLDAYEVENT:FALSE
SUMMARY:GriefShare Support Group
DESCRIPTION:Help and encouragement after the death of a loved one.\n\n \n\n\nA GriefShare support group is a safe\, welcoming place where people understand the difficult emotions of grief. At this 13-week group\, you'll receive valuable guidance and tips\, leading you to relief\, comfort\, and peace of mind.\n\n\n\n\nTo register email office@sjcpres.org or call 949.493.1502
X-ALT-DESC;FMTTYPE=text/html:<div><em><strong>Help and encouragement after the death of a loved one.</strong></em></div>\n\n<div>&nbsp\;</div>\n\n<div>\n<div>A <strong>GriefShare</strong> support group is a safe\, welcoming place where people understand the difficult emotions of grief. At this 13-week group\, you&rsquo\;ll receive valuable guidance and tips\, leading you to relief\, comfort\, and peace of mind.</div>\n</div>\n\n<div><br />\nTo register email office@sjcpres.org or call 949.493.1502&nbsp\;</div>\n\n<div>&nbsp\;</div>\n
LOCATION:Community Presbyterian Church 32202 Del Obispo Street San Juan Capistrano\, CA 92675 (Meeting Room on lower level)
UID:e.375.9375
SEQUENCE:3
DTSTAMP:20260423T180748Z
URL:https://cmbusiness.sanjuanchamber.com/events/details/griefshare-support-group-9375
END:VEVENT

END:VCALENDAR
