BEGIN:VCALENDAR
VERSION:2.0
PRODID:-//ChamberMaster//Event Calendar 2.0//EN
METHOD:PUBLISH
X-PUBLISHED-TTL:P3D
REFRESH-INTERVAL:P3D
CALSCALE:GREGORIAN
BEGIN:VEVENT
DTSTART:20180622T013000Z
DTEND:20180622T043000Z
X-MICROSOFT-CDO-ALLDAYEVENT:FALSE
SUMMARY:Salsa Night Benefiting CREER
DESCRIPTION:Fun Evening of Latin Dancing - Instruction - Music and Salsa Taco Bar benefitting CREER\n\nMusic providided by Jorge Bermudez Percussionist Conga Player djnomatic Javier Corrales Dance Instructors Janene & Graham Wade\n\nTaco & Salsa Bar includes a drink coupon\n\nA Beautiful LatinEvening benefiting Creer Afterschool & Summer School program www.creeroc.org\n\n \n\nGroup pricing available\n\nA group of 5 prepaid need names and check or Credit card $225.\n\nA group of 8 prepaid need names and check or credit card $320.\n\nA group of 10 prepaid need names and check or credit card $350\n\nWebsite www.creeroc.org
X-ALT-DESC;FMTTYPE=text/html:<p style="box-sizing: border-box\; border: 1px rgb(230\, 230\, 230)\; outline: 0px\; vertical-align: baseline\; background-image: initial\; background-position: initial\; background-size: initial\; background-repeat: initial\; background-attachment: initial\; background-origin: initial\; background-clip: initial\; margin: 0px\; padding: 0px\; line-height: 1.5em\; font-size: 16px\; font-variant-numeric: normal\; font-variant-east-asian: normal\; font-stretch: inherit\; font-family: &quot\;Source Sans Pro&quot\;\, sans-serif\; letter-spacing: 0.4px\; color: rgb(0\, 0\, 0)\;">Fun Evening of Latin Dancing - Instruction - Music and Salsa Taco Bar benefitting CREER</p>\n\n<p style="box-sizing: border-box\; border: 1px rgb(230\, 230\, 230)\; outline: 0px\; vertical-align: baseline\; background-image: initial\; background-position: initial\; background-size: initial\; background-repeat: initial\; background-attachment: initial\; background-origin: initial\; background-clip: initial\; margin: 0px\; padding: 0px\; line-height: 1.5em\; font-size: 16px\; font-variant-numeric: normal\; font-variant-east-asian: normal\; font-stretch: inherit\; font-family: &quot\;Source Sans Pro&quot\;\, sans-serif\; letter-spacing: 0.4px\; color: rgb(0\, 0\, 0)\;">Music providided by Jorge Bermudez Percussionist Conga Player djnomatic Javier Corrales Dance Instructors Janene &amp\; Graham Wade</p>\n\n<p style="box-sizing: border-box\; border: 1px rgb(230\, 230\, 230)\; outline: 0px\; vertical-align: baseline\; background-image: initial\; background-position: initial\; background-size: initial\; background-repeat: initial\; background-attachment: initial\; background-origin: initial\; background-clip: initial\; margin: 0px\; padding: 0px\; line-height: 1.5em\; font-size: 16px\; font-variant-numeric: normal\; font-variant-east-asian: normal\; font-stretch: inherit\; font-family: &quot\;Source Sans Pro&quot\;\, sans-serif\; letter-spacing: 0.4px\; color: rgb(0\, 0\, 0)\;">Taco &amp\; Salsa Bar includes a drink coupon</p>\n\n<p style="box-sizing: border-box\; border: 1px rgb(230\, 230\, 230)\; outline: 0px\; vertical-align: baseline\; background-image: initial\; background-position: initial\; background-size: initial\; background-repeat: initial\; background-attachment: initial\; background-origin: initial\; background-clip: initial\; margin: 0px\; padding: 0px\; line-height: 1.5em\; font-size: 16px\; font-variant-numeric: normal\; font-variant-east-asian: normal\; font-stretch: inherit\; font-family: &quot\;Source Sans Pro&quot\;\, sans-serif\; letter-spacing: 0.4px\; color: rgb(0\, 0\, 0)\;">A Beautiful LatinEvening benefiting Creer Afterschool &amp\; Summer School program www.creeroc.org</p>\n\n<p style="box-sizing: border-box\; border: 1px rgb(230\, 230\, 230)\; outline: 0px\; vertical-align: baseline\; background-image: initial\; background-position: initial\; background-size: initial\; background-repeat: initial\; background-attachment: initial\; background-origin: initial\; background-clip: initial\; margin: 0px\; padding: 0px\; line-height: 1.5em\; font-size: 16px\; font-variant-numeric: normal\; font-variant-east-asian: normal\; font-stretch: inherit\; font-family: &quot\;Source Sans Pro&quot\;\, sans-serif\; letter-spacing: 0.4px\; color: rgb(0\, 0\, 0)\;">&nbsp\;</p>\n\n<p style="box-sizing: border-box\; border: 1px rgb(230\, 230\, 230)\; outline: 0px\; vertical-align: baseline\; background-image: initial\; background-position: initial\; background-size: initial\; background-repeat: initial\; background-attachment: initial\; background-origin: initial\; background-clip: initial\; margin: 0px\; padding: 0px\; line-height: 1.5em\; font-size: 16px\; font-variant-numeric: normal\; font-variant-east-asian: normal\; font-stretch: inherit\; font-family: &quot\;Source Sans Pro&quot\;\, sans-serif\; letter-spacing: 0.4px\; color: rgb(0\, 0\, 0)\;">Group pricing available</p>\n\n<p style="box-sizing: border-box\; border: 1px rgb(230\, 230\, 230)\; outline: 0px\; vertical-align: baseline\; background-image: initial\; background-position: initial\; background-size: initial\; background-repeat: initial\; background-attachment: initial\; background-origin: initial\; background-clip: initial\; margin: 0px\; padding: 0px\; line-height: 1.5em\; font-size: 12.8px\; font-variant-numeric: normal\; font-variant-east-asian: normal\; font-stretch: inherit\; font-family: &quot\;Source Sans Pro&quot\;\, sans-serif\; letter-spacing: 0.025em\; color: rgb(34\, 34\, 34)\;"><span style="box-sizing: border-box\; border: 1px rgb(230\, 230\, 230)\; outline: 0px\; vertical-align: baseline\; background: transparent\; margin: 0px\; padding: 0px\; line-height: 1.5em\; font-style: inherit\; font-variant-numeric: normal\; font-variant-east-asian: normal\; font-weight: inherit\; font-stretch: inherit\; font-size: 16px\; letter-spacing: 0.025em\; color: rgb(12\, 104\, 156)\; text-decoration-line: underline\;"><span style="box-sizing: border-box\; border: 1px rgb(230\, 230\, 230)\; outline: 0px\; vertical-align: baseline\; background: transparent\; margin: 0px\; padding: 0px\; line-height: 1.5em\; font-style: inherit\; font-variant-numeric: normal\; font-variant-east-asian: normal\; font-weight: inherit\; font-stretch: inherit\; letter-spacing: 0.025em\; color: windowtext\;">A group of 5 prepaid need names and check or Credit card $225.</span></span></p>\n\n<p style="box-sizing: border-box\; border: 1px rgb(230\, 230\, 230)\; outline: 0px\; vertical-align: baseline\; background-image: initial\; background-position: initial\; background-size: initial\; background-repeat: initial\; background-attachment: initial\; background-origin: initial\; background-clip: initial\; margin: 0px\; padding: 0px\; line-height: 1.5em\; font-size: 12.8px\; font-variant-numeric: normal\; font-variant-east-asian: normal\; font-stretch: inherit\; font-family: &quot\;Source Sans Pro&quot\;\, sans-serif\; letter-spacing: 0.025em\; color: rgb(34\, 34\, 34)\;"><span style="box-sizing: border-box\; border: 1px rgb(230\, 230\, 230)\; outline: 0px\; vertical-align: baseline\; background: transparent\; margin: 0px\; padding: 0px\; line-height: 1.5em\; font-style: inherit\; font-variant-numeric: normal\; font-variant-east-asian: normal\; font-weight: inherit\; font-stretch: inherit\; font-size: 16px\; letter-spacing: 0.025em\; color: rgb(12\, 104\, 156)\; text-decoration-line: underline\;"><span style="box-sizing: border-box\; border: 1px rgb(230\, 230\, 230)\; outline: 0px\; vertical-align: baseline\; background: transparent\; margin: 0px\; padding: 0px\; line-height: 1.5em\; font-style: inherit\; font-variant-numeric: normal\; font-variant-east-asian: normal\; font-weight: inherit\; font-stretch: inherit\; letter-spacing: 0.025em\; color: windowtext\;">A group of 8 prepaid need names and check or credit card $320.</span></span></p>\n\n<p style="box-sizing: border-box\; border: 1px rgb(230\, 230\, 230)\; outline: 0px\; vertical-align: baseline\; background-image: initial\; background-position: initial\; background-size: initial\; background-repeat: initial\; background-attachment: initial\; background-origin: initial\; background-clip: initial\; margin: 0px\; padding: 0px\; line-height: 1.5em\; font-size: 12.8px\; font-variant-numeric: normal\; font-variant-east-asian: normal\; font-stretch: inherit\; font-family: &quot\;Source Sans Pro&quot\;\, sans-serif\; letter-spacing: 0.025em\; color: rgb(34\, 34\, 34)\;"><span style="box-sizing: border-box\; border: 1px rgb(230\, 230\, 230)\; outline: 0px\; vertical-align: baseline\; background: transparent\; margin: 0px\; padding: 0px\; line-height: 1.5em\; font-style: inherit\; font-variant-numeric: normal\; font-variant-east-asian: normal\; font-weight: inherit\; font-stretch: inherit\; font-size: 16px\; letter-spacing: 0.025em\; color: rgb(12\, 104\, 156)\; text-decoration-line: underline\;"><span style="box-sizing: border-box\; border: 1px rgb(230\, 230\, 230)\; outline: 0px\; vertical-align: baseline\; background: transparent\; margin: 0px\; padding: 0px\; line-height: 1.5em\; font-style: inherit\; font-variant-numeric: normal\; font-variant-east-asian: normal\; font-weight: inherit\; font-stretch: inherit\; letter-spacing: 0.025em\; color: windowtext\;">A group of 10 prepaid need names and check or credit card $350</span></span></p>\n\n<p style="box-sizing: border-box\; border: 1px rgb(230\, 230\, 230)\; outline: 0px\; vertical-align: baseline\; background-image: initial\; background-position: initial\; background-size: initial\; background-repeat: initial\; background-attachment: initial\; background-origin: initial\; background-clip: initial\; margin: 0px\; padding: 0px\; line-height: 1.5em\; font-size: 12.8px\; font-variant-numeric: normal\; font-variant-east-asian: normal\; font-stretch: inherit\; font-family: &quot\;Source Sans Pro&quot\;\, sans-serif\; letter-spacing: 0.025em\; color: rgb(34\, 34\, 34)\;"><span style="box-sizing: border-box\; border: 1px rgb(230\, 230\, 230)\; outline: 0px\; vertical-align: baseline\; background: transparent\; margin: 0px\; padding: 0px\; font-style: inherit\; line-height: 1.5em\; font-variant-numeric: normal\; font-variant-east-asian: normal\; font-weight: inherit\; font-stretch: inherit\; font-size: 16px\; letter-spacing: 0.025em\; color: rgb(0\, 0\, 0)\;"><span style="box-sizing: border-box\; border: 1px rgb(230\, 230\, 230)\; outline: 0px\; vertical-align: baseline\; background: transparent\; margin: 0px\; padding: 0px\; line-height: 1.5em\; font-style: inherit\; font-variant-numeric: normal\; font-variant-east-asian: normal\; font-weight: inherit\; font-stretch: inherit\; font-size: 13.5pt\; letter-spacing: 0.025em\; color: rgb(102\, 0\, 0)\;">Website&nbsp\;</span></span><a data-saferedirecturl="https://www.google.com/url?hl=en&amp\;q=http://www.creeroc.org&amp\;source=gmail&amp\;ust=1529421228949000&amp\;usg=AFQjCNG7Pyw-det480v9bzmO8MLEIpZG7Q" href="http://www.creeroc.org/" style="box-sizing: border-box\; border: 1px rgb(230\, 230\, 230)\; outline: 0px\; vertical-align: baseline\; background: transparent\; margin: 0px\; padding: 0px\; text-decoration-line: none\; transition: background 300ms ease 0s\, color 300ms ease 0s\, border-color 300ms ease 0s\; line-height: 1.5em\; color: rgb(17\, 85\, 204)\; font-style: inherit\; font-variant-numeric: normal\; font-variant-east-asian: normal\; font-weight: inherit\; font-stretch: inherit\; font-size: 16px\; letter-spacing: 0.025em\;" target="_blank"><span style="box-sizing: border-box\; border: 1px rgb(230\, 230\, 230)\; outline: 0px\; vertical-align: baseline\; background: transparent\; margin: 0px\; padding: 0px\; font-style: inherit\; line-height: 1.5em\; font-variant-numeric: normal\; font-variant-east-asian: normal\; font-weight: inherit\; font-stretch: inherit\; letter-spacing: 0.025em\; color: rgb(0\, 0\, 0)\;"><span style="box-sizing: border-box\; border: 1px rgb(230\, 230\, 230)\; outline: 0px\; vertical-align: baseline\; background: transparent\; margin: 0px\; padding: 0px\; line-height: 1.5em\; font-style: inherit\; font-variant-numeric: normal\; font-variant-east-asian: normal\; font-weight: inherit\; font-stretch: inherit\; font-size: 13.5pt\; letter-spacing: 0.025em\;">www.creeroc.org</span></span></a></p>\n
LOCATION:San Juan Hills Golf Club 32120 San Juan Creek Road San Juan Capistrano\, CA 92675
UID:e.375.5082
SEQUENCE:3
DTSTAMP:20260423T114903Z
URL:https://cmbusiness.sanjuanchamber.com/events/details/salsa-night-benefiting-creer-5082
END:VEVENT

END:VCALENDAR
