BEGIN:VCALENDAR
VERSION:2.0
PRODID:-//ChamberMaster//Event Calendar 2.0//EN
METHOD:PUBLISH
X-PUBLISHED-TTL:P3D
REFRESH-INTERVAL:P3D
CALSCALE:GREGORIAN
BEGIN:VEVENT
DTSTART:20251207T210000Z
DTEND:20251208T000000Z
X-MICROSOFT-CDO-ALLDAYEVENT:FALSE
SUMMARY:The Social Loft Christmas Market
DESCRIPTION:https://drive.google.com/file/d/1DUNPBiWFhUTogCqC4Y3nGZh_EaOLXQ-i/view?usp=drive_link
X-ALT-DESC;FMTTYPE=text/html:<a href="https://drive.google.com/file/d/1DUNPBiWFhUTogCqC4Y3nGZh_EaOLXQ-i/view?usp=drive_link">https://drive.google.com/file/d/1DUNPBiWFhUTogCqC4Y3nGZh_EaOLXQ-i/view?usp=drive_link</a><br />\n&nbsp\;
LOCATION:The Social Loft 28142 Camino Capistrano #102 Laguna Niguel\, CA
UID:e.375.9294
SEQUENCE:3
DTSTAMP:20260423T102027Z
URL:https://cmbusiness.sanjuanchamber.com/events/details/the-social-loft-christmas-market-9294
END:VEVENT

END:VCALENDAR
