BEGIN:VCALENDAR
VERSION:2.0
PRODID:-//ChamberMaster//Event Calendar 2.0//EN
METHOD:PUBLISH
X-PUBLISHED-TTL:P3D
REFRESH-INTERVAL:P3D
CALSCALE:GREGORIAN
BEGIN:VEVENT
DTSTART:20261205T230000Z
DTEND:20261206T020000Z
X-MICROSOFT-CDO-ALLDAYEVENT:FALSE
SUMMARY:Tree Lighting - Beer & Wine Garden
DESCRIPTION:
X-ALT-DESC;FMTTYPE=text/html:
LOCATION:
UID:e.375.9362
SEQUENCE:3
DTSTAMP:20260424T053653Z
URL:https://cmbusiness.sanjuanchamber.com/events/details/tree-lighting-beer-wine-garden-9362
END:VEVENT

END:VCALENDAR
